BEGIN:VCALENDAR
VERSION:2.0
PRODID:-//GreenLight Women - ECPv6.15.10//NONSGML v1.0//EN
CALSCALE:GREGORIAN
METHOD:PUBLISH
X-ORIGINAL-URL:https://greenlightwomen.org
X-WR-CALDESC:Events for GreenLight Women
REFRESH-INTERVAL;VALUE=DURATION:PT1H
X-Robots-Tag:noindex
X-PUBLISHED-TTL:PT1H
BEGIN:VTIMEZONE
TZID:UTC
BEGIN:STANDARD
TZOFFSETFROM:+0000
TZOFFSETTO:+0000
TZNAME:UTC
DTSTART:20230101T000000
END:STANDARD
END:VTIMEZONE
BEGIN:VEVENT
DTSTART;TZID=UTC:20241016T173000
DTEND;TZID=UTC:20241016T183000
DTSTAMP:20260420T100002
CREATED:20240916T221427Z
LAST-MODIFIED:20240916T222051Z
UID:951-1729099800-1729103400@greenlightwomen.org
SUMMARY:Climate Lens Workshop - A New Tool For Storytelling
DESCRIPTION:RSVP HERE\n			\n				\n				\n				\n				\n				ABOUT GOOD ENERGYGood Energy is a nonprofit story consultancy for the age of climate change. Our goal is to make it as easy as possible to portray the climate emergency on-screen in entertaining and artful ways. Climate change is a generative lens through which to imagine any aspect of a story\, regardless of genre. It can add complexity to any theme\, conflict to any character\, depth and color to any setting. Climate connects to all the different aspects of our lives\, and all the other issues we care about. It is inherently intersectional. The story possibilities are endless. In half-hour and one-hour workshops\, you’ll learn how easy it is to apply a Climate Lens to any and every storyline\, regardless of genre. The result is authentic\, relatable\, untold stories that portray what audiences around the world are experiencing today. \nwww.goodenergystories.com \n			\n				RSVP HERE
URL:https://greenlightwomen.org/event/goodenergy/
LOCATION:Online – ZOOM
ATTACH;FMTTYPE=image/jpeg:https://greenlightwomen.org/wp-content/uploads/2024/09/ClimateLens-website2.jpg
END:VEVENT
END:VCALENDAR