BEGIN:VCALENDAR
VERSION:2.0
PRODID:-//GreenLight Women - ECPv6.15.10//NONSGML v1.0//EN
CALSCALE:GREGORIAN
METHOD:PUBLISH
X-ORIGINAL-URL:https://greenlightwomen.org
X-WR-CALDESC:Events for GreenLight Women
REFRESH-INTERVAL;VALUE=DURATION:PT1H
X-Robots-Tag:noindex
X-PUBLISHED-TTL:PT1H
BEGIN:VTIMEZONE
TZID:UTC
BEGIN:STANDARD
TZOFFSETFROM:+0000
TZOFFSETTO:+0000
TZNAME:UTC
DTSTART:20230101T000000
END:STANDARD
END:VTIMEZONE
BEGIN:VEVENT
DTSTART;TZID=UTC:20241211T180000
DTEND;TZID=UTC:20241211T210000
DTSTAMP:20260420T140857
CREATED:20241207T051955Z
LAST-MODIFIED:20241209T221235Z
UID:1048-1733940000-1733950800@greenlightwomen.org
SUMMARY:Holiday Party and Membership Drive
DESCRIPTION:RSVP HERE\n			\n				\n				\n				\n				\n				Join us for our GreenLight Women Holiday Party and Membership Drive! \nMembers are encouraged to bring friends! \nHors d’ oeuvres will be served \nNo Host Bar \nGeneral Members No Charge \nFriends of GreenLight andNon-Members $25.00 which will go towards General Membership Dues if you choose to join! \nHotel Parking $15.00Street Parking Available \n			\n				RSVP HERE
URL:https://greenlightwomen.org/event/holiday24/
LOCATION:Cara Hotel\, 1730 N. Western Ave.\, Los Angeles\, CA\, 90027\, United States
ATTACH;FMTTYPE=image/png:https://greenlightwomen.org/wp-content/uploads/2024/12/GLW-HolidayParty5.png
END:VEVENT
END:VCALENDAR