BEGIN:VCALENDAR
VERSION:2.0
PRODID:-//GreenLight Women - ECPv6.15.10//NONSGML v1.0//EN
CALSCALE:GREGORIAN
METHOD:PUBLISH
X-WR-CALNAME:GreenLight Women
X-ORIGINAL-URL:https://greenlightwomen.org
X-WR-CALDESC:Events for GreenLight Women
REFRESH-INTERVAL;VALUE=DURATION:PT1H
X-Robots-Tag:noindex
X-PUBLISHED-TTL:PT1H
BEGIN:VTIMEZONE
TZID:UTC
BEGIN:STANDARD
TZOFFSETFROM:+0000
TZOFFSETTO:+0000
TZNAME:UTC
DTSTART:20240101T000000
END:STANDARD
END:VTIMEZONE
BEGIN:VEVENT
DTSTART;TZID=UTC:20251016T210000
DTEND;TZID=UTC:20251017T010000
DTSTAMP:20260423T175504
CREATED:20251007T213613Z
LAST-MODIFIED:20251013T183638Z
UID:1292-1760648400-1760662800@greenlightwomen.org
SUMMARY:La Femme International Film Festival Opening Night Party
DESCRIPTION:You are officially invited to the  \nLa Femme International Film Festival Opening Night Party sponsored by  \nGreenLight Women  \nand the  \nLaw Offices of Sauda Johnson-McNeal  \nOctober 16\, 2025  \n1500 S Los Angeles Street Los Angeles\, CA 90015  \n(Street parking and nearby lots)  \n\nThe party is FREE to all GreenLight Members and our Community. Please join us and celebrate the 21st year of La Femme. This festival aligns with our mission! \n			\n				\n				\n				\n				\n				MORE INFORMATION\nThe festival will be held at the Regal Theaters Downtown LA 1100 Olympic Blvd Los Angeles\, CA 90015. \n			\n				RSVP HERE\n			\n			\n				\n				\n				\n				\n				\n				\n				\n				\n				\n				\nIN ADDITION\n\n\nAdditional screening added 12:00pm – 2:00pm\nHere is the link to purchase tickets for this showing.\n\n\nAdditional codes for 20% off:  GREENLIGHT (all caps) \n\n\nOpening Night filmSOLD OUT\n \n“Love The Skin You’re In” \nOctober 16th DTLA Regal Theaters Cinema 14\n1100 Olympic Blvd Los Angeles\, CA 90015 \n \nYou must have a ticket for entry\n\n \nEvening Schedule\n5:00pm-6:00pm – Red Carpet – (Cast & Creative Team)\n6:00pm-8pm – Screening & Brief Q&A\n9:00pm – 1am – Opening Night Party\n \n\n\nHere is the schedule link to films and the seminars in-person and virtual for GreenLight Members and our community (students-friends-members) \nhttps://lafemme2025.eventive.org/welcome\nAdditional discount codes  for 20% off(all caps)\nGREENLIGHT\n\n \nADDED PERK \nAll members receive free admission to the hosted event and complimentary access to screenings on October 16th\, 2025.\n \nYou must have a ticket for the Opening Night Film so secure your seat now.
URL:https://greenlightwomen.org/event/la-femme-international-film-festival-opening-night-party/
LOCATION:La Femme International Film Festival\, 1500 S Los Angeles Street\, Los Angeles\, CA\, 90015\, United States
ATTACH;FMTTYPE=image/jpeg:https://greenlightwomen.org/wp-content/uploads/2025/10/GLW-LaFemme-Party.jpg
END:VEVENT
END:VCALENDAR