BEGIN:VCALENDAR
VERSION:2.0
PRODID:-//GreenLight Women - ECPv6.15.10//NONSGML v1.0//EN
CALSCALE:GREGORIAN
METHOD:PUBLISH
X-WR-CALNAME:GreenLight Women
X-ORIGINAL-URL:https://greenlightwomen.org
X-WR-CALDESC:Events for GreenLight Women
REFRESH-INTERVAL;VALUE=DURATION:PT1H
X-Robots-Tag:noindex
X-PUBLISHED-TTL:PT1H
BEGIN:VTIMEZONE
TZID:UTC
BEGIN:STANDARD
TZOFFSETFROM:+0000
TZOFFSETTO:+0000
TZNAME:UTC
DTSTART:20220101T000000
END:STANDARD
END:VTIMEZONE
BEGIN:VEVENT
DTSTART;TZID=UTC:20230322T170000
DTEND;TZID=UTC:20230322T203000
DTSTAMP:20260423T052207
CREATED:20230926T034039Z
LAST-MODIFIED:20230926T034336Z
UID:581-1679504400-1679517000@greenlightwomen.org
SUMMARY:CreativeFuture - Virtual Discussion
DESCRIPTION:
URL:https://greenlightwomen.org/event/creativefuture-virtual-discussion/
LOCATION:Online – ZOOM
CATEGORIES:Past Events
ATTACH;FMTTYPE=image/jpeg:https://greenlightwomen.org/wp-content/uploads/2023/09/CreativeFuture-home.jpg
END:VEVENT
END:VCALENDAR