BEGIN:VCALENDAR
VERSION:2.0
PRODID:-//GreenLight Women - ECPv6.15.10//NONSGML v1.0//EN
CALSCALE:GREGORIAN
METHOD:PUBLISH
X-WR-CALNAME:GreenLight Women
X-ORIGINAL-URL:https://greenlightwomen.org
X-WR-CALDESC:Events for GreenLight Women
REFRESH-INTERVAL;VALUE=DURATION:PT1H
X-Robots-Tag:noindex
X-PUBLISHED-TTL:PT1H
BEGIN:VTIMEZONE
TZID:UTC
BEGIN:STANDARD
TZOFFSETFROM:+0000
TZOFFSETTO:+0000
TZNAME:UTC
DTSTART:20240101T000000
END:STANDARD
END:VTIMEZONE
BEGIN:VEVENT
DTSTART;TZID=UTC:20250709T180000
DTEND;TZID=UTC:20250709T200000
DTSTAMP:20260423T100528
CREATED:20250708T003752Z
LAST-MODIFIED:20250708T003916Z
UID:1221-1752084000-1752091200@greenlightwomen.org
SUMMARY:GreenLight Women - Annual Membership Meeting
DESCRIPTION:RSVP HERE
URL:https://greenlightwomen.org/event/greenlight-women-annual-membership-meeting/
LOCATION:Online – ZOOM
ATTACH;FMTTYPE=image/jpeg:https://greenlightwomen.org/wp-content/uploads/2025/07/AnnualMeeting-web.jpg
END:VEVENT
END:VCALENDAR